{"text_format":"1","workbook":"xlsx","n_sheets":2,"sheets":["Sheet1","Sheet2"],"not_rendered":{"charts":0,"images":0,"macros":1,"external_links":0,"defined_names":17,"comments":0,"pivot_tables":0},"unopened":[],"bounds":{"document_bytes":16777216,"sheet_cells":100000,"rows_first":2000,"rows_last":500,"rows_between":2000,"halvings":0,"cell_chars":16384,"cell_head_chars":4096},"cells_cut":0,"cells_raw":0,"read":"whole","date_system":"1900"}

{"sheet":"Sheet1","index":0,"n_rows":23,"n_cols":7,"rows_kept":23,"cut":false,"hidden":false,"merged":[[0,6,1,13],[2,6,3,13]]}
["قطعه شماره 1",null,null,null,null,null,"در صورت مشاهده  Enable Editing روی آن کلیک نمائید!"]
["نام قطعه",null,null,"Hitch plate"]
["عرض",null,null,null,null,null,"در صورت مشاهده پنجره خطا END را بزنید ویکبار دیگر فایل را باز نمائید!"]
["عمق"]
["ضخامت پلیت",null,null,20,{"$f":"IF(thick>0,1,0)","v":1}]
["قطر سوراخ",null,null,20,{"$f":"IF(D6>0,1,0)","v":1}]
["تعداد سوراخ",null,null,8]
["فاصله سوراخ",null,null,50,{"$f":"IF(D8>0,1,0)","v":1}]
["تعداد ساخت",null,null,2,{"$f":"IF(D9>0,1,0)","v":1}]
["شماره قطعه",null,null,"1402211-1501",{"$f":"SUM(E5:E9)","v":4},{"$f":"IF(E10=4,1,0)","v":1}]
[]
["نام پروژه",null,null,"Mr. Bashari"]
["شرکت",null,null,"FFI"]
["آدرس",null,null,"Tehran"]
[]
[]
[]
[]
[]
[]
[{"$f":"\"1:1\"","v":"1:1"}]
[{"$f":"\"2:1\"","v":"2:1"}]
["1:1",{"$f":"MATCH(A23,A21:A22,0)","v":1}]

{"sheet":"Sheet2","index":1,"n_rows":447,"n_cols":17,"rows_kept":447,"cut":false,"hidden":true,"merged":[]}
["New","No.1"]
[null,"Hitch Plate",null,null,"para",null,"i=1","i=2","rond",{"$f":"IF(nooh<4,nooh*60,260)","v":260}]
["erase",{"$f":"L3","v":380},"w",{"$f":"(B3-D8)/2","v":115},{"$f":"L3","v":380},{"$f":"VLOOKUP(E3,B3:C4,2,0)","v":"w"},{"$f":"E28+F28+B11+180","v":380},{"$f":"E28+F28+B11+180","v":380},null,{"$f":"CHOOSE(roping,G3,H3)","v":380},{"$f":"Sheet1!D3","v":0},{"$f":"MAX(K3,J3)","v":380},{"$f":"ROUND(M4*297/210,0)","v":622},{"$f":"IF(L4>0.75*L3,M3,P3)","v":580},"w",{"$f":"ROUND(1.5*E3+B12/2,0)","v":580},"w"]
["all",{"$f":"L4","v":280},"D",{"$f":"IF(B9>0,D3+B11/2,D3)","v":140},{"$f":"N3","v":580},"p297",{"$f":"(H27-1)*B11+B11+130","v":280},{"$f":"MAX(120,(H27-1)*B11+2*B11)","v":200},{"$f":"ROUND(297*I5/210,0)","v":990},{"$f":"CHOOSE(roping,G4,H4)","v":280},{"$f":"Sheet1!D4","v":0},{"$f":"MAX(K4,J4)","v":280},{"$f":"ROUND(1.5*L4,0)+B12","v":440},{"$f":"IF(L4>0.75*L3,M4,P4)","v":410},"D",{"$f":"ROUND(P3*210/297,0)","v":410},"D"]
[null,null,"r",{"$f":"IF(D13>0,(width-D10)/2,D4)","v":215},{"$f":"N4","v":410},"p210",null,{"$f":"ROUND(I5/E5,1)","v":1.7},{"$f":"280+grand","v":700}]
[";",{"$f":"Sheet1!D6","v":20},"R",null,{"$f":"width+depth-E3","v":280},null,{"$f":"hole/2","v":10}]
[";",{"$f":"MAX(2,Sheet1!D7)","v":8},"No",{"$f":"IF(B7>3,ROUNDUP(nooh/2,0),B7)","v":4},{"$f":"ROUNDUP(B7/2,0)","v":4},null,{"$f":"nooh-10","v":-2},{"$f":"IF(G7<1,5,G7)","v":5},{"$f":"CHOOSE(H7,H9,I9,J9,K9,0)","v":0}]
[";",{"$f":"D7","v":4},{"$f":"MAX(B8:B10)","v":4},{"$f":"(B8-1)*B11","v":150},{"$f":"IF(B8>0,1,0)","v":1},{"$f":"E13","v":115},"y1",24.5,11.5,6.5,0]
[";",{"$f":"IF(B7>5,B7-B8,0)","v":4},null,{"$f":"(B9-1)*B11+B11/2","v":175},{"$f":"IF(B9>0,1,0)","v":1},{"$f":"(E11-1)*B11+F8","v":165},"y2",{"$f":"H8+$H$10","v":24.5},{"$f":"I8+$H$10","v":11.5},6.5,0]
[";",null,null,{"$f":"(B10-1)*B11","v":-50},{"$f":"IF(B10>0,1,0)","v":0},{"$f":"(E11-2)*B11+F9","v":165},"y3",{"$f":"(grand-420)/2","v":0}]
[{"$f":"\"-purge\"","v":"-purge"},{"$f":"Sheet1!D8","v":50},"dis",null,{"$f":"SUM(E8:E10)","v":2}]
["B",{"$f":"thick","v":20},"TH",null,{"$f":"(E11-1)*B11","v":50},null,null,"top lines"]
[null,null,null,{"$f":"Sheet1!D9","v":2},{"$f":"(B4-E12)/2","v":115},null,{"$f":"INT(E5*4/210)","v":7},{"$f":"E5-2*G13","v":396},{"$f":"INT(E5*6/210)","v":11},{"$f":"E5-2*I13","v":388}]
["N",null,null,null,null,null,null,{"$f":"E5-4*G13","v":382},null,{"$f":"E5-5.5*I13","v":349.5}]
["INSUNITS"]
[4,null,null,null,"mid","top","bot"]
["dimtih",null,null,1,1,0,0]
["off",null,null,2,2,0,0]
["dimclrt",null,null,3,2,1,0]
[7,null,null,4,2,2,0]
["dimasz",null,null,5,2,2,1]
[{"$f":"ROUND(E4*3/297,0)","v":6},null,null,6,2,2,2]
["dimtxt",null,null,7,3,2,2]
[{"$f":"A22","v":6},null,null,8,3,3,2]
["dimclrd",null,null,9,3,3,3]
[1,null,null,10,4,3,3]
["dimclre",null,null,{"$f":"nooh","v":8},{"$f":"OFFSET(D16,MIN(10,D27),1)","v":3},{"$f":"OFFSET(D16,MIN(10,D27),2)","v":3},{"$f":"OFFSET(D16,MIN(10,D27),3)","v":2},{"$f":"COUNTIF(E27:G27,\">0\")","v":3}]
[1,null,null,null,{"$f":"(midd-1)*B11","v":100},{"$f":"(topp-1)*B11/2","v":50}]
["dimfxlon",null,null,"x",{"$f":"IF(midd>topp,(B3-E28)/2,(B3-E28)/2-B11/4)","v":127.5},{"$f":"CHOOSE(H27,E29,E29+B11/2,E29+B11/2)","v":152.5},{"$f":"F29","v":152.5}]
["on",null,null,"start",{"$f":"E29&\",\"&E31","v":"127.5,140"},{"$f":"F29&\",\"&F31","v":"152.5,190"},"152.5,90"]
["dimfxl",null,null,"y",{"$f":"CHOOSE(H27,B4/2,B4/2-B11/2,B4/2)","v":140},{"$f":"CHOOSE(H27,B4/2,B4/2+B11/2,B4/2+B11)","v":190},{"$f":"CHOOSE(H27,B4/2,B4/2-B11/2,B4/2-B11)","v":90}]
[{"$f":"A24","v":6}]
["dimexe"]
[{"$f":"A22/2","v":3}]
["dimgap"]
[{"$f":"0.1*A24","v":0.60000000000000009}]
["dimdec"]
[0]
["dimscale"]
[1]
["angdir"]
[0]
["osmode"]
[0]
[{"$f":"\"-style\"","v":"-style"}]
["arial"]
["ARIAL"]
[0]
[1]
[0]
["No"]
["No"]
["erase"]
["all"]
[]
["rectang"]
["0,0"]
[{"$f":"E4&\",\"&E5","v":"580,410"}]
["rectang"]
[{"$f":"\"0,\"&INT(0.91*E5)","v":"0,373"}]
[{"$f":"E4&\",\"&E5","v":"580,410"}]
["rectang"]
[{"$f":"INT(E4/3)&\",\"&INT(0.91*E5)","v":"193,373"}]
[{"$f":"INT(2*E4/3)&\",\"&E5","v":"386,410"}]
[{"$f":"\"-text\"","v":"-text"}]
[{"$f":"INT(1.2*E4/3)&\",\"&J13","v":"232,388"}]
[{"$f":"INT(E5*6/210)","v":11}]
[0]
[{"$f":"Name","v":"Hitch plate"}]
[{"$f":"\"-TEXT\"","v":"-TEXT"}]
[{"$f":"INT(1.15*E4/3)&\",\"&J14","v":"222,349.5"}]
[{"$f":"INT(E5*6/210)","v":11}]
[0]
["DIMENSIONS mm"]
[{"$f":"\"-text\"","v":"-text"}]
[{"$f":"INT(0.1*E4/3)&\",\"&H13","v":"19,396"}]
[{"$f":"INT(E5*4/210)","v":7}]
[0]
["Installation company"]
[{"$f":"\"-text\"","v":"-text"}]
[{"$f":"INT(0.3*E4/3)&\",\"&H14","v":"58,382"}]
[{"$f":"INT(E5*4/210)","v":7}]
[0]
[{"$f":"company","v":"FFI"}]
[{"$f":"\"-text\"","v":"-text"}]
[{"$f":"INT(2.12*E4/3)&\",\"&H13","v":"409,396"}]
[{"$f":"INT(E5*4/210)","v":7}]
[0]
[{"$f":"\"Project:  \"&prjname","v":"Project:  Mr. Bashari"}]
[{"$f":"\"-text\"","v":"-text"}]
[{"$f":"INT(2.3*E4/3)&\",\"&H14","v":"444,382"}]
[{"$f":"INT(E5*4/210)","v":7}]
[0]
[{"$f":"\"Location: \"&prjloc","v":"Location: Tehran"}]
[{"$f":"\"-text\"","v":"-text"}]
[{"$f":"INT(2.1*E4/3)&\",\"&INT(0.1*E5)","v":"406,41"}]
[{"$f":"INT(E5*4.5/210)","v":8}]
[0]
[{"$f":"\"Material: Steel plate \"&thick&\" mm\"","v":"Material: Steel plate 20 mm"}]
[{"$f":"\"-text\"","v":"-text"}]
[{"$f":"INT(2.1*E4/3)&\",\"&INT(0.1*E5)-2*A97","v":"406,25"}]
[{"$f":"INT(E5*4.5/210)","v":8}]
[0]
["Qantity: 2  pcs"]
["zoom"]
["all"]
["offset"]
[{"$f":"INT(E5*4/210)","v":7}]
["0,0"]
[{"$f":"\"-90,0\"","v":"-90,0"}]
[]
["cecolor"]
[200]
[{"$f":"\"-text\"","v":"-text"}]
[{"$f":"\"-2,5\"","v":"-2,5"}]
[{"$f":"INT(E5*2/210)","v":3}]
[90]
["visit miniLiftdesigner : https://bardiarad.ir"]
[{"$f":"\"-block\"","v":"-block"}]
["lands"]
["0,0"]
["all"]
[]
["cecolor"]
[7]
[{"$f":"\"-insert\"","v":"-insert"}]
["lands"]
["0,0"]
[1]
[1]
[0]
["move"]
["L"]
[]
["0,0"]
[{"$f":"-(E4-E3)/2&\",\"&-(E5-E6)/2","v":"-100,-65"}]
["rectang"]
["0,0"]
[{"$f":"B3&\",\"&B4","v":"380,280"}]
["zoom"]
["all"]
["circle"]
[{"$f":"E30","v":"127.5,140"}]
[{"$f":"B6/2","v":10}]
[{"$f":"\"-array\"","v":"-array"}]
["L"]
[]
["R"]
[1]
[{"$f":"midd","v":3}]
[{"$f":"B11","v":50}]
[{"$f":"IF($H$27>1,B152,C152)","v":"circle"},"circle",";"]
[{"$f":"IF($H$27>1,B153,C153)","v":"152.5,190"},{"$f":"F30","v":"152.5,190"},";"]
[10,{"$f":"B6/2","v":10},";"]
[{"$f":"IF(topp>1,B155,C155)","v":"-array"},{"$f":"\"-array\"","v":"-array"},";"]
[{"$f":"IF(topp>1,B156,C156)","v":"L"},"L",";"]
[{"$f":"IF(topp>1,CONCATENATE(B157),C157)","v":""},null,";"]
[{"$f":"IF(topp>1,B158,C158)","v":"R"},"R",";"]
[{"$f":"IF(topp>1,B159,C159)","v":1},1,";"]
[{"$f":"IF(topp>1,B160,C160)","v":3},{"$f":"topp","v":3},";"]
[{"$f":"IF(topp>1,B161,C161)","v":50},{"$f":"B11","v":50},";"]
[{"$f":"IF($H$27>2,B162,C162)","v":"circle"},"circle",";"]
[{"$f":"IF($H$27>2,B163,C163)","v":"152.5,90"},{"$f":"G30","v":"152.5,90"},";"]
[10,{"$f":"B6/2","v":10},";"]
[{"$f":"IF(bott>1,B165,C165)","v":"-array"},{"$f":"\"-array\"","v":"-array"},";"]
[{"$f":"IF(bott>1,B166,C166)","v":"L"},"L",";"]
[{"$f":"IF(bott>1,CONCATENATE(B167),C167)","v":""},null,";"]
[{"$f":"IF(bott>1,B168,C168)","v":"R"},"R",";"]
[{"$f":"IF(bott>1,B169,C169)","v":1},1,";"]
[{"$f":"IF(bott>1,B170,C170)","v":2},{"$f":"bott","v":2},";"]
[{"$f":"IF(bott>1,B171,C171)","v":50},{"$f":"B11","v":50},";"]
["dimdiameter","circle"]
[{"$f":"E29+hole/2&\",\"&E31","v":"137.5,140"},{"$f":"D5&\",\"&F10","v":"215,165"}]
[{"$f":"E29+hole/2&\",\"&E31+hole/2","v":"137.5,150"},{"$f":"B6/2","v":10}]
[";"]
[";"]
[";"]
["dimlinear"]
["0,0"]
[{"$f":"width&\",0\"","v":"380,0"}]
[{"$f":"\"@\"&A24*2&\"<270\"","v":"@12<270"}]
["dimlinear"]
[{"$f":"width &\",0\"","v":"380,0"}]
[{"$f":"width&\",\"&depth","v":"380,280"}]
[{"$f":"\"@\"&A24*2&\"<0\"","v":"@12<0"}]
["dimlinear"]
[{"$f":"\"0,\"&E31","v":"0,140"}]
[{"$f":"E29&\",\"&E31","v":"127.5,140"}]
[{"$f":"\"@\"&A24*2&\"<270\"","v":"@12<270"}]
["dimlinear"]
[{"$f":"E29&\",\"&E31","v":"127.5,140"}]
[{"$f":"E29+B11&\",\"&E31","v":"177.5,140"}]
[{"$f":"\"@\"&A32*2&\"<270\"","v":"@12<270"}]
[{"$f":"IF(midd>2,B194,C194)","v":"dimlinear"},"dimlinear",";"]
[{"$f":"IF(midd>2,B195,C195)","v":"177.5,140"},{"$f":"E29+B11&\",\"&E31","v":"177.5,140"},";"]
[{"$f":"IF(midd>2,B196,C196)","v":"227.5,140"},{"$f":"E29+2*B11&\",\"&E31","v":"227.5,140"},";"]
[{"$f":"IF(midd>2,B197,C197)","v":"@12<270"},{"$f":"\"@\"&A32*2&\"<270\"","v":"@12<270"},";"]
[";",null,";"]
[{"$f":"IF(nooh>2,B199,C199)","v":"dimlinear"},"dimlinear",";"]
[{"$f":"IF(nooh>2,B200,C200)","v":"0,190"},{"$f":"\"0,\"&F31","v":"0,190"},";"]
[{"$f":"IF(nooh>2,B201,C201)","v":"152.5,190"},{"$f":"F29&\",\"&F31","v":"152.5,190"},";"]
[{"$f":"IF(nooh>2,B202,C202)","v":"@12<270"},{"$f":"\"@\"&A32*2&\"<270\"","v":"@12<270"},";"]
[{"$f":"IF(nooh>4,B203,C203)","v":"dimlinear"},"dimlinear",";"]
[{"$f":"IF(nooh>4,B204,C204)","v":"0,90"},{"$f":"\"0,\"&G31","v":"0,90"},";"]
[{"$f":"IF(nooh>4,B205,C205)","v":"152.5,90"},{"$f":"G29&\",\"&G31","v":"152.5,90"},";"]
[{"$f":"IF(nooh>4,B206,C206)","v":"@12<270"},{"$f":"\"@\"&A32*2&\"<270\"","v":"@12<270"},";"]
[{"$f":"IF(nooh>2,B207,C207)","v":"dimlinear"},"dimlinear",";"]
[{"$f":"IF(nooh>2,B208,C208)","v":"0,140"},{"$f":"\"0,\"&E31","v":"0,140"},";"]
[{"$f":"IF(nooh>2,B209,C209)","v":"0,190"},{"$f":"\"0,\"&E31+B11","v":"0,190"},";"]
[{"$f":"IF(nooh>2,B210,C210)","v":"@12<180"},{"$f":"\"@\"&2*A32&\"<180\"","v":"@12<180"},";"]
[{"$f":"IF(nooh>4,B211,C211)","v":"dimlinear"},"dimlinear",";"]
[{"$f":"IF(nooh>4,B212,C212)","v":"0,140"},{"$f":"\"0,\"&E31","v":"0,140"},";"]
[{"$f":"IF(nooh>4,B213,C213)","v":"0,90"},{"$f":"\"0,\"&E31-B11","v":"0,90"},";"]
[{"$f":"IF(nooh>4,B214,C214)","v":"@12<180"},{"$f":"\"@\"&2*A32&\"<180\"","v":"@12<180"},";"]
["rectang"]
["0,0"]
[{"$f":"B12&\",\"&B4","v":"20,280"}]
["move"]
["l"]
[]
["0,0"]
[{"$f":"width+4*A24&\",0\"","v":"404,0"}]
["dimlinear"]
[{"$f":"width+4*A24&\",0\"","v":"404,0"}]
[{"$f":"width+4*A24+B12&\",0\"","v":"424,0"}]
[{"$f":"\"@\"&depth+2*A24&\"<90\"","v":"@292<90"}]
["zoom"]
["all"]
[{"$f":"\"-Block\"","v":"-Block"}]
["para"]
["0,0"]
["all"]
[]
["circle"]
["112,0"]
[{"$f":"hole/2","v":10}]
["dimdiameter"]
[{"$f":"\"112,\"&hole/2","v":"112,10"}]
[{"$f":"112+hole/2&\",\"&hole/2","v":"122,10"}]
["circle"]
["180,0"]
[{"$f":"radi","v":10}]
["circle"]
["240,0"]
[{"$f":"radi","v":10}]
["circle"]
["125,53"]
[{"$f":"radi","v":10}]
["circle"]
["161,93"]
[{"$f":"radi","v":10}]
["circle"]
["210,53"]
[{"$f":"radi","v":10}]
["circle"]
["259,93"]
[{"$f":"radi","v":10}]
["circle"]
["135,-53"]
[{"$f":"radi","v":10}]
["circle"]
["171,-93"]
[{"$f":"radi","v":10}]
["circle"]
["210,-53"]
[{"$f":"radi","v":10}]
["circle","circle",";"]
["249,-93","285,-53",";"]
[{"$f":"radi","v":10},{"$f":"radi","v":10},";"]
[{"$f":"IF(nooh>11,B267,C267)","v":";"},"circle",";"]
[{"$f":"IF(nooh>11,B268,C268)","v":";"},"295,53",";"]
[{"$f":"IF(nooh>11,B269,C269)","v":";"},{"$f":"radi","v":10},";"]
[{"$f":"IF(nooh>12,B270,C270)","v":";"},"circle",";"]
[{"$f":"IF(nooh>12,B271,C271)","v":";"},"308,0",";"]
[{"$f":"IF(nooh>12,B272,C272)","v":";"},{"$f":"radi","v":10},";"]
[{"$f":"IF(nooh>13,B273,C273)","v":";"}]
[{"$f":"IF(nooh>13,B274,C274)","v":";"}]
[{"$f":"IF(nooh>13,B275,C275)","v":";"}]
["rectang"]
[{"$f":"-star&\",\"&-D280","v":"0,-150"},150,{"$f":"Sheet1!D4/2","v":0},{"$f":"MAX(C280,B280)","v":150}]
[{"$f":"-star+D281&\",\"&D280","v":"420,150"},420,{"$f":"Sheet1!D3","v":0},{"$f":"MAX(C281,B281)","v":420}]
["dimlinear"]
[{"$f":"-star&\",0\"","v":"0,0"}]
["112,0"]
[0]
["dimlinear"]
["112,0"]
["180,0"]
[0]
["dimlinear"]
["180,0"]
["240,0"]
[0]
[";"]
[";"]
[";"]
[";"]
["dimlinear"]
[{"$f":"-star&\",\"&demi","v":"0,150"}]
[{"$f":"\"125,\"&demi","v":"125,150"}]
[{"$f":"\"@20<90\"","v":"@20<90"}]
["dimlinear"]
[{"$f":"-star&\",\"&demi","v":"0,150"}]
[{"$f":"\"161,\"&demi","v":"161,150"}]
[{"$f":"\"@40<90\"","v":"@40<90"}]
["dimlinear"]
[{"$f":"-star&\",\"&demi","v":"0,150"}]
[{"$f":"\"210,\"&demi","v":"210,150"}]
[{"$f":"\"@60<90\"","v":"@60<90"}]
["dimlinear"]
[{"$f":"-star&\",\"&demi","v":"0,150"}]
[{"$f":"\"259,\"&demi","v":"259,150"}]
[{"$f":"\"@80<90\"","v":"@80<90"}]
["dimlinear"]
[{"$f":"-star&\",\"&demi","v":"0,150"}]
[{"$f":"-star+grand&\",\"&demi","v":"420,150"}]
[{"$f":"\"@120<90\"","v":"@120<90"}]
["dimlinear"]
[{"$f":"-star&\",-\"&demi","v":"0,-150"}]
[{"$f":"\"135,-\"&demi","v":"135,-150"}]
[{"$f":"\"@20<270\"","v":"@20<270"}]
["dimlinear"]
[{"$f":"-star&\",-\"&demi","v":"0,-150"}]
[{"$f":"\"171,-\"&demi","v":"171,-150"}]
[{"$f":"\"@40<270\"","v":"@40<270"}]
["dimlinear"]
[{"$f":"-star&\",-\"&demi","v":"0,-150"}]
[{"$f":"\"210,-\"&demi","v":"210,-150"}]
[{"$f":"\"@60<270\"","v":"@60<270"}]
["dimlinear"]
[{"$f":"-star&\",-\"&demi","v":"0,-150"}]
[{"$f":"\"249,-\"&demi","v":"249,-150"}]
[{"$f":"\"@80<270\"","v":"@80<270"}]
["dimlinear"]
[{"$f":"-star&\",0\"","v":"0,0"}]
[{"$f":"-star&\",53\"","v":"0,53"}]
[{"$f":"\"@25<180\"","v":"@25<180"}]
["dimlinear"]
[{"$f":"-star&\",0\"","v":"0,0"}]
[{"$f":"-star&\",93\"","v":"0,93"}]
[{"$f":"\"@50<180\"","v":"@50<180"}]
["dimlinear"]
[{"$f":"-star&\",0\"","v":"0,0"}]
[{"$f":"-star&\",-53\"","v":"0,-53"}]
[{"$f":"\"@25<180\"","v":"@25<180"}]
["dimlinear"]
[{"$f":"-star&\",0\"","v":"0,0"},"dimlinear",";"]
[{"$f":"-star&\",-93\"","v":"0,-93"},{"$f":"-star&\",-\"&demi","v":"0,-150"},";"]
[{"$f":"\"@50<180\"","v":"@50<180"},{"$f":"\"285,-\"&demi","v":"285,-150"},";"]
[{"$f":"IF(nooh>11,B347,C347)","v":";"},{"$f":"\"@100<270\"","v":"@100<270"},";"]
[{"$f":"IF(nooh>11,B348,C348)","v":";"},"dimlinear",";"]
[{"$f":"IF(nooh>11,B349,C349)","v":";"},{"$f":"-star&\",\"&demi","v":"0,150"},";"]
[{"$f":"IF(nooh>11,B350,C350)","v":";"},{"$f":"\"295,\"&demi","v":"295,150"},";"]
[{"$f":"IF(nooh>12,B351,C351)","v":";"},{"$f":"\"@100<90\"","v":"@100<90"},";"]
[{"$f":"IF(nooh>12,B352,C352)","v":";"},"dimlinear",";"]
[{"$f":"IF(nooh>12,B353,C353)","v":";"},"240,0",";"]
[{"$f":"IF(nooh>12,B354,C354)","v":";"},"308,0",";"]
[{"$f":"IF(nooh>13,B355,C355)","v":";"},0,";"]
[{"$f":"IF(nooh>13,B356,C356)","v":";"}]
[{"$f":"IF(nooh>13,B357,C357)","v":";"}]
[{"$f":"IF(nooh>13,B358,C358)","v":";"}]
["rectang"]
[{"$f":"-star+grand+100&\",-\"&demi","v":"520,-150"}]
[{"$f":"\"@\"&thick&\",\"&2*demi","v":"@20,300"}]
["dimlinear"]
[{"$f":"-star+100+grand&\",-\"&demi","v":"520,-150"}]
[{"$f":"-star+100+grand&\",\"&demi","v":"520,150"}]
[{"$f":"\"@25<180\"","v":"@25<180"}]
["dimlinear"]
[{"$f":"-star+100+grand&\",\"&demi","v":"520,150"}]
[{"$f":"-star+100+grand+B12&\",\"&demi","v":"540,150"}]
[{"$f":"\"@25<90\"","v":"@25<90"}]
[{"$f":"\"-insert\"","v":"-insert"}]
["lands"]
["0,0"]
[{"$f":"MAX(F376,G376,G377)","v":1.7},{"$f":"E4","v":580},{"$f":"grand","v":420},{"$f":"C376+170","v":590},{"$f":"ROUND(1.67*D376,0)","v":985},{"$f":"H5","v":1.7},{"$f":"ROUND(E376/B376,1)","v":1.7},{"$f":"B376*F376","v":986},{"$f":"MAX(H376,E376)","v":986}]
[{"$f":"MAX(F377,G377,G376)","v":1.7},{"$f":"E5","v":410},{"$f":"2*demi","v":300},{"$f":"C377+220","v":520},{"$f":"ROUND(1.37*D377,0)","v":712},{"$f":"H5","v":1.7},{"$f":"ROUND(E377/B377,1)","v":1.7},{"$f":"B377*F377","v":697},{"$f":"MAX(H377,E377)","v":712},{"$f":"ROUND(0.84*I377,0)","v":598}]
[0]
["move"]
["L"]
[]
["0,0"]
[{"$f":"-star-200-(grand-420)/2&\",\"&-J377/2","v":"-200,-299"}]
[{"$f":"\"-block\"","v":"-block"}]
["rond"]
["0,0"]
["all"]
[]
[";"]
[";"]
[{"$f":"\"-insert\"","v":"-insert"}]
[{"$f":"IF(nooh>10,C392,B392)","v":"para"},"para","rond"]
["0,0"]
[1]
[1]
[0]
["osmode"]
[183]
["Filedia"]
[1]
[";"]
[";"]
[";"]
[";"]
[";"]
[";"]
[";"]
[";"]
[";"]
[";"]
[";"]
[";"]
[";"]
[";"]
[";"]
[";"]
[]
[]
[";"]
[";"]
[";"]
[";"]
[";"]
[";"]
[";"]
[";"]
[";"]
[]
[]
[";"]
[";"]
[";"]
[";"]
[";"]
[]
[]
[";"]
[";"]
[";"]
[";"]
[";"]
[";"]
[";"]
[";"]
[";"]
[";"]
[";"]