{"text_format":"1","workbook":"xlsx","n_sheets":2,"sheets":["Sheet1","Sheet2"],"not_rendered":{"charts":0,"images":0,"macros":1,"external_links":1,"defined_names":14,"comments":0,"pivot_tables":0},"unopened":[],"bounds":{"document_bytes":16777216,"sheet_cells":100000,"rows_first":2000,"rows_last":500,"rows_between":2000,"halvings":0,"cell_chars":16384,"cell_head_chars":4096},"cells_cut":0,"cells_raw":0,"read":"whole","date_system":"1900"}

{"sheet":"Sheet1","index":0,"n_rows":22,"n_cols":7,"rows_kept":22,"cut":false,"hidden":false,"merged":[[0,6,1,13],[2,6,3,13]]}
["قطعه شماره 2",null,null,null,null,null,"روی دکمه Enable Editing کلیک نمائید!"]
["نام قطعه",null,null,"Motor Plate"]
["عرض",null,null,190,{"$f":"IF(D3>0,1,0)","v":1},null,"درصورتیکه پنجره خطای 1004 داده شد روی END بزنید و یکبار دیگر فایل را باز نمائید"]
["عمق",null,null,420,1]
["ضخامت پلیت",null,null,20,1]
["قطر سوراخ",null,null,24,{"$f":"IF(D6>0,1,0)","v":1}]
["تعداد سوراخ",null,null,6,1]
["فاصله سوراخ عرضی",null,null,100,{"$f":"IF(D8>0,1,0)","v":1}]
["فاصله سوراخ عمقی",null,null,200,{"$f":"IF(D9>0,1,0)","v":1}]
["تعداد ساخت",null,null,2,{"$f":"IF(D10>0,1,0)","v":1}]
["شماره قطعه",null,null,"1402211-1501",{"$f":"SUM(E3:E10)","v":8},{"$f":"IF(E11=8,1,0)","v":1}]
["نام پروژه",null,null,"Mr. Soltanpour"]
["شرکت",null,null,"F"]
["آدرس",null,null,"Tehran"]
[]
[]
[]
[]
[]
[";"]
[";"]
["Hi"]

{"sheet":"Sheet2","index":1,"n_rows":303,"n_cols":11,"rows_kept":303,"cut":false,"hidden":false,"merged":[]}
[{"$f":"Sheet1!A20","v":";"},"No.2",null,null,null,"new",";"]
[{"$f":"Sheet1!A21","v":";"},{"$f":"Sheet1!D2","v":"Motor Plate"},null,{"$f":"depth+B12+250","v":690},null,null,";"]
["erase",{"$f":"Sheet1!D3","v":190},"w",{"$f":"width+270","v":460},null,null,null,{"$f":"(D7-1)*B11+60*D7+B6","v":-76}]
["all",{"$f":"Sheet1!D4","v":420},"D",{"$f":"MAX(D2,D3)","v":690},10,{"$f":"D4/297","v":2.3232323232323231},{"$f":"MAX(F4,F5)","v":2.3232323232323231},{"$f":"IF(G5=F5,ROUND(F5*297,0),0)","v":0},{"$f":"IF(H4>0,H4,D4)","v":690},{"$f":"MAX(width,depth)","v":420},{"$f":"(I4-J4)/2","v":135}]
[null,null,"r",{"$f":"MIN(D2,D3)","v":460},7,{"$f":"D5/210","v":2.1904761904761907},{"$f":"MAX(F5,F4)","v":2.3232323232323231},{"$f":"IF(G4=F4,ROUND(F4*210,0),0)","v":488},{"$f":"IF(H5>0,H5,D5)","v":488},{"$f":"IF(depth>width,width,0)","v":190},{"$f":"60+B12+J5+0.1*I5","v":318.8}]
[";",{"$f":"Sheet1!D6","v":24},"R",null,{"$f":"width+depth-E3","v":610},null,{"$f":"hole/2","v":12}]
[";",{"$f":"Sheet1!D7","v":6},"No",false,4,6,{"$f":"E8+F8","v":6}]
[";",null,null,null,{"$f":"IF(nooh=E7,nooh,0)","v":0},{"$f":"IF(nooh=F7,nooh,0)","v":6},{"$f":"MATCH(G7,E7:F7,0)","v":2}]
[";",null,null,null,{"$f":"(width-B11)/2","v":45},{"$f":"(width-B11)/2","v":45},{"$f":"CHOOSE(G8,E9,F9)","v":45},{"$f":"G9+B11","v":145},{"$f":"H9+hole/2","v":157}]
[";",null,null,null,{"$f":"(depth-B13)/2","v":110},{"$f":"(depth-B13)/2","v":110},null,null,{"$f":"CHOOSE(G8,E10,F10)","v":110}]
[{"$f":"\"-purge\"","v":"-purge"},{"$f":"Sheet1!D8","v":100},"disW",null,{"$f":"E9&\",\"&E10","v":"45,110"},{"$f":"F9&\",\"&F10","v":"45,110"},{"$f":"CHOOSE(G8,E11,F11)","v":"45,110"}]
["B",{"$f":"Sheet1!D5","v":20},"TH",null,{"$f":"E9+B11&\",\"&E10","v":"145,110"},{"$f":"F9+B11&\",\"&F10","v":"145,110"},{"$f":"CHOOSE(G8,2,3)","v":3},"row"]
[null,{"$f":"Sheet1!D9","v":200},null,null,{"$f":"E9&\",\"&E10+B13","v":"45,310"},null,{"$f":"CHOOSE(G8,B13,B13/2)","v":100},"rowdist"]
["N",{"$f":"Sheet1!D10","v":2},"Nomanuf",null,{"$f":"E9+B11&\",\"&E10+B13","v":"145,310"}]
["INSUNITS"]
[4,null,null,null,"top lines"]
["dimtih",null,null,{"$f":"INT(I5*4/210)","v":9},{"$f":"I5-2*D17","v":470},{"$f":"INT(I5*6/210)","v":13},{"$f":"I5-2*F17","v":462}]
["off",null,null,null,{"$f":"I5-4*D17","v":452},null,{"$f":"I5-5.5*F17","v":416.5}]
["dimclrt"]
[7]
["dimasz"]
[{"$f":"ROUND(I4*3/297,0)","v":7}]
["dimtxt"]
[{"$f":"A22","v":7}]
["dimclrd"]
[1]
["dimclre"]
[1]
["dimfxlon"]
["on"]
["dimfxl"]
[{"$f":"A24","v":7}]
["dimexe"]
[{"$f":"A22/2","v":3.5}]
["dimgap"]
[{"$f":"0.1*A24","v":0.70000000000000007}]
["dimdec"]
[0]
["dimscale"]
[1]
["angdir"]
[0]
["osmode"]
[0]
[{"$f":"\"-style\"","v":"-style"}]
["arial"]
["ARIAL"]
[0]
[1]
[0]
["No"]
["No"]
["erase"]
["all"]
[]
["rectang"]
["0,0"]
[{"$f":"I4&\",\"&I5","v":"690,488"}]
["rectang"]
[{"$f":"\"0,\"&INT(0.91*I5)","v":"0,444"}]
[{"$f":"I4&\",\"&I5","v":"690,488"}]
["rectang"]
[{"$f":"INT(I4/3)&\",\"&INT(0.91*I5)","v":"230,444"}]
[{"$f":"INT(2*I4/3)&\",\"&I5","v":"460,488"}]
[{"$f":"\"-text\"","v":"-text"}]
[{"$f":"INT(1.2*I4/3)&\",\"&G17","v":"276,462"}]
[{"$f":"INT(I5*6/210)","v":13}]
[0]
[{"$f":"Name","v":"Motor Plate"}]
[{"$f":"\"-TEXT\"","v":"-TEXT"}]
[{"$f":"INT(1.15*I4/3)&\",\"&G18","v":"264,416.5"}]
[{"$f":"INT(I5*6/210)","v":13}]
[0]
["DIMENSIONS mm"]
[{"$f":"\"-text\"","v":"-text"}]
[{"$f":"INT(0.1*I4/3)&\",\"&E17","v":"23,470"}]
[{"$f":"INT(I5*4/210)","v":9}]
[0]
["Installation company"]
[{"$f":"\"-text\"","v":"-text"}]
[{"$f":"INT(0.3*I4/3)&\",\"&E18","v":"69,452"}]
[{"$f":"INT(I5*4/210)","v":9}]
[0]
[{"$f":"company","v":"F"}]
[{"$f":"\"-text\"","v":"-text"}]
[{"$f":"INT(2.12*I4/3)&\",\"&E17","v":"487,470"}]
[{"$f":"INT(I5*4/210)","v":9}]
[0]
[{"$f":"\"Project:  \"&prjname","v":"Project:  Mr. Soltanpour"}]
[{"$f":"\"-text\"","v":"-text"}]
[{"$f":"INT(2.3*I4/3)&\",\"&E18","v":"529,452"}]
[{"$f":"INT(I5*4/210)","v":9}]
[0]
[{"$f":"\"Location: \"&prjloc","v":"Location: Tehran"}]
[{"$f":"\"-text\"","v":"-text"}]
[{"$f":"INT(2.1*I4/3)&\",\"&INT(0.1*I5)","v":"483,48"}]
[{"$f":"INT(I5*4.5/210)","v":10}]
[0]
[{"$f":"\"Material: Steel plate \"&thick&\" mm\"","v":"Material: Steel plate 20 mm"}]
[{"$f":"\"-text\"","v":"-text"}]
[{"$f":"INT(2.1*I4/3)&\",\"&INT(0.1*I5)-20","v":"483,28"}]
[{"$f":"INT(I5*4.5/210)","v":10}]
[0]
[{"$f":"\"Qantity: \"&Sheet1!D10&\"  pcs\"","v":"Qantity: 2  pcs"}]
["zoom"]
["all"]
["offset"]
[{"$f":"INT(I5*4/210)","v":9}]
["0,0"]
[{"$f":"\"-90,0\"","v":"-90,0"}]
[]
["cecolor"]
[200]
[{"$f":"\"-text\"","v":"-text"}]
[{"$f":"\"-2,5\"","v":"-2,5"}]
[{"$f":"INT(I5*2/210)","v":4}]
[90]
["visit miniLiftdesigner : https://bardiarad.ir"]
[{"$f":"\"-block\"","v":"-block"}]
["lands"]
["0,0"]
["all"]
[]
["cecolor"]
[7]
["rectang"]
["0,0"]
[{"$f":"width&\",\"&depth","v":"190,420"}]
["circle"]
[{"$f":"G11","v":"45,110"}]
[{"$f":"hole/2","v":12}]
[{"$f":"\"-array\"","v":"-array"}]
["l"]
[]
["R"]
[{"$f":"G12","v":3}]
[2]
[{"$f":"IF(A136=1,B138,C138)","v":100},";",{"$f":"G13","v":100}]
[{"$f":"B11","v":100}]
["dimlinear"]
["0,0"]
[{"$f":"\"0,\"&I10","v":"0,110"}]
[{"$f":"\"@15<180\"","v":"@15<180"}]
[{"$f":"IF(nooh=6,C144,B144)","v":"dimlinear"},";","dimlinear"]
["0,110",";",{"$f":"\"0,\"&I10","v":"0,110"}]
["@100<90",";",{"$f":"\"@\"&B13/2&\"<90\"","v":"@100<90"}]
["@15<180",";",{"$f":"\"@15<180\"","v":"@15<180"}]
["dimlinear","dimlinear","dimlinear"]
["0,210",{"$f":"\"0,\"&I10","v":"0,110"},{"$f":"\"0,\"&I10+B13/2","v":"0,210"}]
["0,310",{"$f":"\"0,\"&I10+B13","v":"0,310"},{"$f":"\"0,\"&I10+B13","v":"0,310"}]
["@15<180",{"$f":"\"@15<180\"","v":"@15<180"},{"$f":"\"@15<180\"","v":"@15<180"}]
["dimlinear"]
["0,0"]
[{"$f":"G9&\",0\"","v":"45,0"}]
[{"$f":"\"@15<-90\"","v":"@15<-90"}]
["dimlinear"]
["0,0"]
[{"$f":"\"0,\"&depth","v":"0,420"}]
[{"$f":"\"@30<180\"","v":"@30<180"}]
["dimlinear"]
["0,0"]
[{"$f":"width&\",0\"","v":"190,0"}]
[{"$f":"\"@30<270\"","v":"@30<270"}]
["dimlinear"]
[{"$f":"G11","v":"45,110"}]
[{"$f":"\"@\"&B11&\"<0\"","v":"@100<0"}]
[0]
["zoom"]
["extents"]
["Redraw"]
[";"]
["dimdiameter"]
[{"$f":"I9&\",\"&I10","v":"157,110"}]
[{"$f":"I9&\",\"&I10+15","v":"157,125"}]
["rectang"]
[{"$f":"width+30&\",0\"","v":"220,0"}]
[{"$f":"\"@\"&B12&\",\"&depth","v":"@20,420"}]
["dimlinear"]
[{"$f":"width+30&\",0\"","v":"220,0"}]
[{"$f":"width+30+B12&\",0\"","v":"240,0"}]
[{"$f":"\"@15<-90\"","v":"@15<-90"}]
[{"$f":"IF(width>=depth,B182,C182)","v":"rotate"},";","rotate"]
[{"$f":"IF(width>=depth,B183,C183)","v":"all"},";","all"]
[{"$f":"IF(width>=depth,B184,CONCATENATE(C184))","v":""},";"]
[{"$f":"IF(width>=depth,B185,C185)","v":"0,0"},";","0,0"]
[{"$f":"IF(width>=depth,B186,C186)","v":"-90"},";",{"$f":"\"-90\"","v":"-90"}]
[{"$f":"\"-insert\"","v":"-insert"}]
["lands"]
[{"$f":"-K4&\",\"&-K5","v":"-135,-318.8"}]
[1]
[1]
[0]
[";"]
[";"]
[";"]
[";"]
[";"]
[";"]
[";"]
[";"]
[";"]
[";"]
[";"]
[";"]
[";"]
[";"]
[";"]
[";"]
[";"]
[";"]
[";"]
[";"]
[";"]
[";"]
[";"]
[";"]
[";"]
[";"]
[";"]
[";"]
[";"]
[";"]
[";"]
[";"]
[";"]
[";"]
[";"]
[";"]
[";"]
[";"]
[";"]
[";"]
[";"]
[";"]
[";"]
[";"]
[";"]
[";"]
[";"]
[";"]
[";"]
[";"]
[";"]
[";"]
[";"]
[";"]
[";"]
[";"]
[";"]
[";"]
[";"]
[";"]
[";"]
[";"]
[";"]
[";"]
[";"]
[";"]
[";"]
[";"]
[";"]
[";"]
[";"]
[";"]
[";"]
[";"]
[";"]
[";"]
[";"]
[";"]
[";"]
[";"]
[";"]
[";"]
[";"]
[";"]
[";"]
[";"]
[";"]
[";"]
[";"]
[";"]
[";"]
[";"]
[";"]
[";"]
[";"]
[";"]
[";"]
[";"]
[";"]
[";"]
[";"]
[";"]
[";"]
["Filedia"]
[1]
["zoom"]
["all"]
[";"]
["osmode"]
[183]
[";"]